BEGIN:VCALENDAR
VERSION:2.0
PRODID:-//Kingston Beach Surf Life Saving Club - ECPv5.4.0//NONSGML v1.0//EN
CALSCALE:GREGORIAN
METHOD:PUBLISH
X-WR-CALNAME:Kingston Beach Surf Life Saving Club
X-ORIGINAL-URL:https://www.kingstonbeachslsc.com.au
X-WR-CALDESC:Events for Kingston Beach Surf Life Saving Club
BEGIN:VTIMEZONE
TZID:Australia/Hobart
BEGIN:STANDARD
TZOFFSETFROM:+1100
TZOFFSETTO:+1000
TZNAME:AEST
DTSTART:20200404T160000
END:STANDARD
BEGIN:DAYLIGHT
TZOFFSETFROM:+1000
TZOFFSETTO:+1100
TZNAME:AEDT
DTSTART:20201003T160000
END:DAYLIGHT
END:VTIMEZONE
BEGIN:VEVENT
DTSTART;TZID=Australia/Hobart:20201006T193000
DTEND;TZID=Australia/Hobart:20201006T210000
DTSTAMP:20210302T034153
CREATED:20160822T043955Z
LAST-MODIFIED:20160822T043955Z
UID:1869-1602012600-1602018000@www.kingstonbeachslsc.com.au
SUMMARY:Club Committee Meeting
DESCRIPTION:
URL:https://www.kingstonbeachslsc.com.au/event/club-committee-meeting/2020-10-06/
END:VEVENT
END:VCALENDAR