BEGIN:VCALENDAR
VERSION:2.0
PRODID:-//Kingston Beach Surf Life Saving Club - ECPv5.4.0//NONSGML v1.0//EN
CALSCALE:GREGORIAN
METHOD:PUBLISH
X-WR-CALNAME:Kingston Beach Surf Life Saving Club
X-ORIGINAL-URL:https://www.kingstonbeachslsc.com.au
X-WR-CALDESC:Events for Kingston Beach Surf Life Saving Club
BEGIN:VTIMEZONE
TZID:Australia/Hobart
BEGIN:STANDARD
TZOFFSETFROM:+1100
TZOFFSETTO:+1000
TZNAME:AEST
DTSTART:20210403T160000
END:STANDARD
BEGIN:DAYLIGHT
TZOFFSETFROM:+1000
TZOFFSETTO:+1100
TZNAME:AEDT
DTSTART:20211002T160000
END:DAYLIGHT
END:VTIMEZONE
BEGIN:VEVENT
DTSTART;VALUE=DATE:20210101
DTEND;VALUE=DATE:20210102
DTSTAMP:20210302T031850
CREATED:20160822T050413Z
LAST-MODIFIED:20160822T050413Z
UID:1889-1609459200-1609545599@www.kingstonbeachslsc.com.au
SUMMARY:New Years Day
DESCRIPTION:
URL:https://www.kingstonbeachslsc.com.au/event/new-years-day/2021-01-01/
END:VEVENT
END:VCALENDAR